BEGIN:VCALENDAR
VERSION:2.0
PRODID:-//Kulvio Event Calendar//kulvio.de//
CALSCALE:GREGORIAN
METHOD:PUBLISH
BEGIN:VEVENT
SUMMARY:Tag der Feuerwehr Flörsheim
DTSTART:20260502T090000Z
DTEND:20260502T210000Z
DTSTAMP:20260421T043142Z
UID:kulvio-event-2631@kulvio.de
CATEGORIES:Stadtfest,Spielfest
CREATED:20260419T155424Z
DESCRIPTION:Die Freiwillige Feuerwehr Flörsheim öffnet ihre Türen am Ta
 g der Feuerwehr im Feuerwehrhaus am Brückenfeld. Tagsüber gibt es Fahrze
 ugausstellungen\, Vorführungen und ein großes Kinderprogramm mit Hüpfbu
 rg und Glücksrad. Abends sorgt die Band Q6 für Live-Musik\, dazu gibt es
  eine Cocktailbar. Der Eintritt ist frei.
GEO:50.016686;8.428998
LAST-MODIFIED:20260419T160134Z
LOCATION:Im Brückenfeld 2\, 65439\, Flörsheim am Main
STATUS:CONFIRMED
URL:https://kulvio.de/event/2631
END:VEVENT
END:VCALENDAR
