BEGIN:VCALENDAR
VERSION:2.0
PRODID:-//Kulvio Event Calendar//kulvio.de//
CALSCALE:GREGORIAN
METHOD:PUBLISH
BEGIN:VEVENT
SUMMARY:31. Flörsheimer Poetry Slam
DTSTART:20260522T180000Z
DTEND:20260522T190000Z
DTSTAMP:20260421T042940Z
UID:kulvio-event-2632@kulvio.de
CATEGORIES:Open Mic
CREATED:20260419T155424Z
DESCRIPTION:Der 31. Flörsheimer Poetry Slam findet im Flörsheimer Keller
  statt. Seit 2014 gehört der Poetry Slam fest zum Kulturprogramm der Stad
 t und bringt Wortakrobaten auf die Bühne des historischen Gewölbekellers
 . Das Publikum entscheidet\, wer den Abend gewinnt. Beginn ist um 20 Uhr.
GEO:50.011419;8.426671
LAST-MODIFIED:20260419T160134Z
LOCATION:Flörsheimer Keller\, Hauptstraße 43\, 65439\, Flörsheim am Mai
 n
STATUS:CONFIRMED
URL:https://kulvio.de/event/2632
END:VEVENT
END:VCALENDAR
