BEGIN:VCALENDAR
VERSION:2.0
PRODID:-//Kulvio Event Calendar//kulvio.de//
CALSCALE:GREGORIAN
METHOD:PUBLISH
BEGIN:VEVENT
SUMMARY:Josefskerb Flörsheim
DTSTART:20260614T080000Z
DTEND:20260614T150000Z
DTSTAMP:20260421T035110Z
UID:kulvio-event-2633@kulvio.de
CATEGORIES:Tradition,Religion
CREATED:20260419T155424Z
DESCRIPTION:Die 61. Josefskerb findet rund um die St.-Josef-Kirche in Flö
 rsheim statt. Das traditionelle Kirchweihfest beginnt mit einem Festgottes
 dienst und wird anschließend im Innenhof der Kirche mit Essen\, Trinken u
 nd Geselligkeit gefeiert. Die Veranstaltung läuft von 10 bis 17 Uhr.
GEO:50.013378;8.420395
LAST-MODIFIED:20260419T160134Z
LOCATION:Kolpingstraße\, 65439\, Flörsheim am Main
STATUS:CONFIRMED
URL:https://kulvio.de/event/2633
END:VEVENT
END:VCALENDAR
