BEGIN:VCALENDAR
VERSION:2.0
PRODID:-//Kulvio Event Calendar//kulvio.de//
CALSCALE:GREGORIAN
METHOD:PUBLISH
BEGIN:VEVENT
SUMMARY:Matthias Ningel: Harmonie
DTSTART:20260925T180000Z
DTEND:20260925T190000Z
DTSTAMP:20260421T043144Z
UID:kulvio-event-2634@kulvio.de
CATEGORIES:Kabarett
CREATED:20260419T155424Z
DESCRIPTION:Der Kabarettist Matthias Ningel präsentiert sein Programm Har
 monie im Flörsheimer Keller. In seiner Show verbindet er scharfsinnige Be
 obachtungen mit feinem Humor und nimmt den Alltag unter die Lupe. Der Aben
 d beginnt um 20 Uhr im historischen Gewölbekeller.
GEO:50.011419;8.426671
LAST-MODIFIED:20260419T160134Z
LOCATION:Flörsheimer Keller\, Hauptstraße 43\, 65439\, Flörsheim am Mai
 n
STATUS:CONFIRMED
URL:https://kulvio.de/event/2634
END:VEVENT
END:VCALENDAR
