BEGIN:VCALENDAR
VERSION:2.0
PRODID:-//Kulvio Event Calendar//kulvio.de//
CALSCALE:GREGORIAN
METHOD:PUBLISH
BEGIN:VEVENT
SUMMARY:Matthias Jung: Chill mal!
DTSTART:20260926T180000Z
DTEND:20260926T190000Z
DTSTAMP:20260421T043150Z
UID:kulvio-event-2635@kulvio.de
CATEGORIES:Comedy
CREATED:20260419T155424Z
DESCRIPTION:Der Comedian und Bestsellerautor Matthias Jung bringt sein Pro
 gramm Chill mal in den Flörsheimer Keller. Mit viel Humor widmet er sich 
 dem Thema Pubertät und Elternsein und zeigt\, wie Familien den alltäglic
 hen Wahnsinn überstehen. Beginn ist um 20 Uhr.
GEO:50.011419;8.426671
LAST-MODIFIED:20260419T160134Z
LOCATION:Flörsheimer Keller\, Hauptstraße 43\, 65439\, Flörsheim am Mai
 n
STATUS:CONFIRMED
URL:https://kulvio.de/event/2635
END:VEVENT
END:VCALENDAR
