BEGIN:VCALENDAR
VERSION:2.0
PRODID:-//Kulvio Event Calendar//kulvio.de//
CALSCALE:GREGORIAN
METHOD:PUBLISH
BEGIN:VEVENT
SUMMARY:Hennes Bender: Alter Falter - Vorpremiere
DTSTART:20261004T180000Z
DTEND:20261004T190000Z
DTSTAMP:20260421T043143Z
UID:kulvio-event-2636@kulvio.de
CATEGORIES:Comedy
CREATED:20260419T155424Z
DESCRIPTION:Der Comedian Hennes Bender zeigt die Vorpremiere seines neuen 
 Programms Alter Falter im Flörsheimer Keller. Bekannt für seine schnelle
 n Pointen und seinen energiegeladenen Stil\, testet er frisches Material v
 or Publikum im Gewölbekeller. Der Abend beginnt um 20 Uhr.
GEO:50.011419;8.426671
LAST-MODIFIED:20260419T160134Z
LOCATION:Flörsheimer Keller\, Hauptstraße 43\, 65439\, Flörsheim am Mai
 n
STATUS:CONFIRMED
URL:https://kulvio.de/event/2636
END:VEVENT
END:VCALENDAR
