BEGIN:VCALENDAR
VERSION:2.0
PRODID:-//Kulvio Event Calendar//kulvio.de//
CALSCALE:GREGORIAN
METHOD:PUBLISH
BEGIN:VEVENT
SUMMARY:HG. Butzko: Der will nicht nur spielen
DTSTART:20261010T180000Z
DTEND:20261010T190000Z
DTSTAMP:20260421T043145Z
UID:kulvio-event-2637@kulvio.de
CATEGORIES:Kabarett
CREATED:20260419T155425Z
DESCRIPTION:Der Kabarettist HG. Butzko gastiert mit seinem Programm Der wi
 ll nicht nur spielen im Flörsheimer Keller. In seiner Show verbindet er p
 olitisches Kabarett mit scharfem Witz und hintergründigen Analysen des Ze
 itgeschehens. Beginn ist um 20 Uhr.
GEO:50.011419;8.426671
LAST-MODIFIED:20260419T160134Z
LOCATION:Flörsheimer Keller\, Hauptstraße 43\, 65439\, Flörsheim am Mai
 n
STATUS:CONFIRMED
URL:https://kulvio.de/event/2637
END:VEVENT
END:VCALENDAR
