BEGIN:VCALENDAR
VERSION:2.0
PRODID:-//Kulvio Event Calendar//kulvio.de//
CALSCALE:GREGORIAN
METHOD:PUBLISH
BEGIN:VEVENT
SUMMARY:Ill-Young Kim: Kim kommt
DTSTART:20261030T190000Z
DTEND:20261030T200000Z
DTSTAMP:20260421T043142Z
UID:kulvio-event-2638@kulvio.de
CATEGORIES:Comedy
CREATED:20260419T155425Z
DESCRIPTION:Die Comedienne Ill-Young Kim bringt ihr Programm Kim kommt in 
 den Flörsheimer Keller. Mit ihrem Mix aus Situationskomik und kulturellen
  Beobachtungen begeistert sie das Publikum im historischen Gewölbekeller 
 der Flörsheimer Altstadt. Der Abend beginnt um 20 Uhr.
GEO:50.011419;8.426671
LAST-MODIFIED:20260419T160134Z
LOCATION:Flörsheimer Keller\, Hauptstraße 43\, 65439\, Flörsheim am Mai
 n
STATUS:CONFIRMED
URL:https://kulvio.de/event/2638
END:VEVENT
END:VCALENDAR
