BEGIN:VCALENDAR
VERSION:2.0
PRODID:-//Kulvio Event Calendar//kulvio.de//
CALSCALE:GREGORIAN
METHOD:PUBLISH
BEGIN:VEVENT
SUMMARY:Johannes Flück: Frühblüher und Spätänder
DTSTART:20261112T190000Z
DTEND:20261112T200000Z
DTSTAMP:20260421T041935Z
UID:kulvio-event-2639@kulvio.de
CATEGORIES:Kabarett
CREATED:20260419T155425Z
DESCRIPTION:Der Kabarettist Johannes Flück präsentiert sein Programm Fr
 ühblüher und Spätänder im Flörsheimer Keller. In seiner Show widmet e
 r sich mit feinsinnigem Humor den Absurditäten des Alltags und den große
 n und kleinen Veränderungen im Leben. Beginn ist um 20 Uhr.
GEO:50.011419;8.426671
LAST-MODIFIED:20260419T160134Z
LOCATION:Flörsheimer Keller\, Hauptstraße 43\, 65439\, Flörsheim am Mai
 n
STATUS:CONFIRMED
URL:https://kulvio.de/event/2639
END:VEVENT
END:VCALENDAR
