BEGIN:VCALENDAR
VERSION:2.0
PRODID:-//Kulvio Event Calendar//kulvio.de//
CALSCALE:GREGORIAN
METHOD:PUBLISH
BEGIN:VEVENT
SUMMARY:32. Flörsheimer Poetry Slam
DTSTART:20261113T190000Z
DTEND:20261113T200000Z
DTSTAMP:20260421T042813Z
UID:kulvio-event-2640@kulvio.de
CATEGORIES:Open Mic
CREATED:20260419T155425Z
DESCRIPTION:Der 32. Flörsheimer Poetry Slam findet im Flörsheimer Keller
  statt. Die Reihe gehört seit 2014 fest zum Kulturprogramm der Stadt und 
 bringt Slammerinnen und Slammer aus der Region auf die Bühne. Das Publiku
 m bewertet die Beiträge und kürt den Gewinner des Abends. Beginn ist um 
 20 Uhr.
GEO:50.011419;8.426671
LAST-MODIFIED:20260419T160134Z
LOCATION:Flörsheimer Keller\, Hauptstraße 43\, 65439\, Flörsheim am Mai
 n
STATUS:CONFIRMED
URL:https://kulvio.de/event/2640
END:VEVENT
END:VCALENDAR
