BEGIN:VCALENDAR
VERSION:2.0
PRODID:-//Kulvio Event Calendar//kulvio.de//
CALSCALE:GREGORIAN
METHOD:PUBLISH
BEGIN:VEVENT
SUMMARY:Biertasting 3.0 im Flörsheimer Keller
DTSTART:20261114T190000Z
DTEND:20261114T200000Z
DTSTAMP:20260421T085041Z
UID:kulvio-event-2641@kulvio.de
CATEGORIES:Tasting
CREATED:20260419T155425Z
DESCRIPTION:Im Flörsheimer Keller findet ein geführtes Biertasting statt
 . Bei der dritten Ausgabe der Verkostungsreihe werden verschiedene Biersor
 ten vorgestellt und probiert. Die Veranstaltung richtet sich an alle\, die
  Craft Beer und besondere Biersorten entdecken möchten.
GEO:50.011419;8.426671
LAST-MODIFIED:20260419T160134Z
LOCATION:Flörsheimer Keller\, Hauptstraße 43\, 65439\, Flörsheim am Mai
 n
STATUS:CONFIRMED
URL:https://kulvio.de/event/2641
END:VEVENT
END:VCALENDAR
