BEGIN:VCALENDAR
VERSION:2.0
PRODID:-//Kulvio Event Calendar//kulvio.de//
CALSCALE:GREGORIAN
METHOD:PUBLISH
BEGIN:VEVENT
SUMMARY:Roberto Capitoni: 60 ist das neue 40
DTSTART:20261120T190000Z
DTEND:20261120T200000Z
DTSTAMP:20260421T043152Z
UID:kulvio-event-2642@kulvio.de
CATEGORIES:Comedy
CREATED:20260419T155425Z
DESCRIPTION:Der Comedian Roberto Capitoni gastiert mit seinem Programm 60 
 ist das neue 40 im Flörsheimer Keller. In seiner Show nimmt er das Älter
 werden mit viel Selbstironie und italienischem Temperament auf die Schippe
 . Der Abend im historischen Gewölbekeller beginnt um 20 Uhr.
GEO:50.011419;8.426671
LAST-MODIFIED:20260419T160134Z
LOCATION:Flörsheimer Keller\, Hauptstraße 43\, 65439\, Flörsheim am Mai
 n
STATUS:CONFIRMED
URL:https://kulvio.de/event/2642
END:VEVENT
END:VCALENDAR
