BEGIN:VCALENDAR
VERSION:2.0
PRODID:-//Kulvio Event Calendar//kulvio.de//
CALSCALE:GREGORIAN
METHOD:PUBLISH
BEGIN:VEVENT
SUMMARY:The Peteles - Beatles-Tribute im Alten Posthof
DTSTART:20260607T090000Z
DTEND:20260607T100000Z
DTSTAMP:20260421T043141Z
UID:kulvio-event-2643@kulvio.de
CATEGORIES:Konzert
CREATED:20260419T155456Z
DESCRIPTION:Die Beatles-Tribute-Band The Peteles spielt im Innenhof des Al
 ten Posthofs in Hattersheim. Die Formation bringt die größten Hits der F
 ab Four auf die Bühne und sorgt für einen musikalischen Sonntagvormittag
 . Das Konzert beginnt um 11 Uhr\, der Eintritt ist frei.
GEO:50.070317;8.484179
LAST-MODIFIED:20260419T160134Z
LOCATION:Posthofkeller\, Sarceller Straße 1\, 65795\, Hattersheim am Main
STATUS:CONFIRMED
URL:https://kulvio.de/event/2643
END:VEVENT
END:VCALENDAR
