BEGIN:VCALENDAR
VERSION:2.0
PRODID:-//Kulvio Event Calendar//kulvio.de//
CALSCALE:GREGORIAN
METHOD:PUBLISH
BEGIN:VEVENT
SUMMARY:35. Klassikertage Hattersheim - Samstag
DTSTART:20260613T080000Z
DTEND:20260613T160000Z
DTSTAMP:20260421T042822Z
UID:kulvio-event-2644@kulvio.de
CATEGORIES:Stadtfest,Tradition
CREATED:20260419T155456Z
DESCRIPTION:Die 35. Klassikertage Hattersheim verwandeln die Innenstadt ru
 nd um den Marktplatz in ein Fest für Oldtimer- und Klassiker-Fans. Zahlre
 iche historische Fahrzeuge werden ausgestellt\, dazu gibt es ein Rahmenpro
 gramm mit Musik und Gastronomie. Die Veranstaltung läuft von 10 bis 18 Uh
 r.
GEO:50.070819;8.485017
LAST-MODIFIED:20260419T160134Z
LOCATION:Marktplatz\, 65795\, Hattersheim am Main
STATUS:CONFIRMED
URL:https://kulvio.de/event/2644
END:VEVENT
END:VCALENDAR
