BEGIN:VCALENDAR
VERSION:2.0
PRODID:-//Kulvio Event Calendar//kulvio.de//
CALSCALE:GREGORIAN
METHOD:PUBLISH
BEGIN:VEVENT
SUMMARY:35. Klassikertage Hattersheim - Sonntag
DTSTART:20260614T080000Z
DTEND:20260614T160000Z
DTSTAMP:20260421T085043Z
UID:kulvio-event-2645@kulvio.de
CATEGORIES:Stadtfest,Tradition
CREATED:20260419T155456Z
DESCRIPTION:Am zweiten Tag der 35. Klassikertage Hattersheim präsentieren
  sich erneut Oldtimer und Klassiker auf dem Marktplatz. Neben der Fahrzeug
 ausstellung gibt es einen verkaufsoffenen Sonntag in der Innenstadt. Die V
 eranstaltung läuft von 10 bis 18 Uhr.
GEO:50.070819;8.485017
LAST-MODIFIED:20260419T160134Z
LOCATION:Marktplatz\, 65795\, Hattersheim am Main
STATUS:CONFIRMED
URL:https://kulvio.de/event/2645
END:VEVENT
END:VCALENDAR
