BEGIN:VCALENDAR
VERSION:2.0
PRODID:-//Kulvio Event Calendar//kulvio.de//
CALSCALE:GREGORIAN
METHOD:PUBLISH
BEGIN:VEVENT
SUMMARY:Cabaret à la surprise - Open-Air im Posthof
DTSTART:20260619T180000Z
DTEND:20260619T190000Z
DTSTAMP:20260421T042931Z
UID:kulvio-event-2646@kulvio.de
CATEGORIES:Kabarett,Open-Air
CREATED:20260419T155456Z
DESCRIPTION:Die beliebte Überraschungsshow Cabaret à la surprise geht im
  Sommer auf den Innenhof des Alten Posthofs in Hattersheim. Wer auftritt\,
  bleibt bis zum Abend geheim. Das Publikum erwartet eine bunte Mischung au
 s Comedy\, Kabarett und Musik unter freiem Himmel. Beginn ist um 20 Uhr.
GEO:50.070317;8.484179
LAST-MODIFIED:20260419T160134Z
LOCATION:Posthofkeller\, Sarceller Straße 1\, 65795\, Hattersheim am Main
STATUS:CONFIRMED
URL:https://kulvio.de/event/2646
END:VEVENT
END:VCALENDAR
