BEGIN:VCALENDAR
VERSION:2.0
PRODID:-//Kulvio Event Calendar//kulvio.de//
CALSCALE:GREGORIAN
METHOD:PUBLISH
BEGIN:VEVENT
SUMMARY:SMART Band im Alten Posthof
DTSTART:20260621T090000Z
DTEND:20260621T100000Z
DTSTAMP:20260421T084612Z
UID:kulvio-event-2647@kulvio.de
CATEGORIES:Konzert
CREATED:20260419T155456Z
DESCRIPTION:Die SMART Band spielt im Innenhof des Alten Posthofs in Hatter
 sheim. Die Formation sorgt für einen musikalischen Sonntagvormittag mit L
 ive-Musik. Das Konzert beginnt um 11 Uhr im Rahmen der Konzertreihe des Ku
 lturForums Hattersheim.
GEO:50.070317;8.484179
LAST-MODIFIED:20260419T160134Z
LOCATION:Posthofkeller\, Sarceller Straße 1\, 65795\, Hattersheim am Main
STATUS:CONFIRMED
URL:https://kulvio.de/event/2647
END:VEVENT
END:VCALENDAR
