BEGIN:VCALENDAR
VERSION:2.0
PRODID:-//Kulvio Event Calendar//kulvio.de//
CALSCALE:GREGORIAN
METHOD:PUBLISH
BEGIN:VEVENT
SUMMARY:Serenaden Picknick am Eddersheimer Mainufer
DTSTART:20260628T130000Z
DTEND:20260628T140000Z
DTSTAMP:20260421T042934Z
UID:kulvio-event-2648@kulvio.de
CATEGORIES:Konzert,Open-Air
CREATED:20260419T155456Z
DESCRIPTION:Das Serenaden Picknick findet am Mainufer in Eddersheim statt.
  Bei dem Open-Air-Konzert treffen sich Musikliebhaber zum gemeinsamen Pick
 nicken und Musikhören direkt am Main. Die Veranstaltung beginnt um 15 Uhr
  und richtet sich an alle Altersgruppen.
GEO:50.041683;8.475139
LAST-MODIFIED:20260419T160134Z
LOCATION:Mönchhofstraße\, 65795\, Hattersheim am Main
STATUS:CONFIRMED
URL:https://kulvio.de/event/2648
END:VEVENT
END:VCALENDAR
