BEGIN:VCALENDAR
VERSION:2.0
PRODID:-//Kulvio Event Calendar//kulvio.de//
CALSCALE:GREGORIAN
METHOD:PUBLISH
BEGIN:VEVENT
SUMMARY:Serenaden um 7ieben: Esther Nathalie Hock
DTSTART:20260703T170000Z
DTEND:20260703T180000Z
DTSTAMP:20260421T041935Z
UID:kulvio-event-2649@kulvio.de
CATEGORIES:Konzert
CREATED:20260419T155456Z
DESCRIPTION:Die Musikerin Esther Nathalie Hock spielt im Rahmen der Reihe 
 Serenaden um 7ieben im Stadtmuseum Hattersheim. Die intime Konzertreihe bi
 etet Kammermusik und akustische Auftritte in besonderem Ambiente. Das Konz
 ert beginnt um 19 Uhr.
GEO:50.064761;8.491849
LAST-MODIFIED:20260419T160134Z
LOCATION:Stadtmuseum Hattersheim\, Platz der Deutschen Einheit 1\, 65795\,
  Hattersheim am Main
STATUS:CONFIRMED
URL:https://kulvio.de/event/2649
END:VEVENT
END:VCALENDAR
