BEGIN:VCALENDAR
VERSION:2.0
PRODID:-//Kulvio Event Calendar//kulvio.de//
CALSCALE:GREGORIAN
METHOD:PUBLISH
BEGIN:VEVENT
SUMMARY:Erna und die Berts im Alten Posthof
DTSTART:20260705T090000Z
DTEND:20260705T100000Z
DTSTAMP:20260421T042938Z
UID:kulvio-event-2650@kulvio.de
CATEGORIES:Konzert
CREATED:20260419T155456Z
DESCRIPTION:Die Schlagerband Erna und die Berts spielt im Innenhof des Alt
 en Posthofs in Hattersheim. Die Formation bringt deutsche Schlager-Klassik
 er auf die Open-Air-Bühne und sorgt für gute Laune am Sonntagvormittag. 
 Das Konzert beginnt um 11 Uhr.
GEO:50.070317;8.484179
LAST-MODIFIED:20260419T160134Z
LOCATION:Posthofkeller\, Sarceller Straße 1\, 65795\, Hattersheim am Main
STATUS:CONFIRMED
URL:https://kulvio.de/event/2650
END:VEVENT
END:VCALENDAR
