BEGIN:VCALENDAR
VERSION:2.0
PRODID:-//Kulvio Event Calendar//kulvio.de//
CALSCALE:GREGORIAN
METHOD:PUBLISH
BEGIN:VEVENT
SUMMARY:Cabaret à la surprise - Open-Air im Posthof (Juli)
DTSTART:20260717T180000Z
DTEND:20260717T190000Z
DTSTAMP:20260421T043150Z
UID:kulvio-event-2651@kulvio.de
CATEGORIES:Kabarett,Open-Air
CREATED:20260419T155456Z
DESCRIPTION:Die Überraschungsshow Cabaret à la surprise geht im Juli ern
 eut auf den Innenhof des Alten Posthofs in Hattersheim. Auch diesmal bleib
 t das Line-up geheim\, das Publikum darf sich auf Comedy\, Kabarett und Mu
 sik unter freiem Himmel freuen. Beginn ist um 20 Uhr.
GEO:50.070317;8.484179
LAST-MODIFIED:20260419T160134Z
LOCATION:Posthofkeller\, Sarceller Straße 1\, 65795\, Hattersheim am Main
STATUS:CONFIRMED
URL:https://kulvio.de/event/2651
END:VEVENT
END:VCALENDAR
