BEGIN:VCALENDAR
VERSION:2.0
PRODID:-//Kulvio Event Calendar//kulvio.de//
CALSCALE:GREGORIAN
METHOD:PUBLISH
BEGIN:VEVENT
SUMMARY:Serenaden um 7ieben: Wolfgang Mayer
DTSTART:20260731T170000Z
DTEND:20260731T180000Z
DTSTAMP:20260421T042942Z
UID:kulvio-event-2652@kulvio.de
CATEGORIES:Konzert
CREATED:20260419T155456Z
DESCRIPTION:Der Gitarrist Wolfgang Mayer spielt im Rahmen der Reihe Serena
 den um 7ieben im Nassauer Hof in Hattersheim. Die Konzertreihe bietet akus
 tische Musik in intimer Atmosphäre. Das Konzert beginnt um 19 Uhr.
GEO:50.071137;8.491149
LAST-MODIFIED:20260419T160134Z
LOCATION:Nassauer Hof\, Nassauer Straße 1\, 65795\, Hattersheim am Main
STATUS:CONFIRMED
URL:https://kulvio.de/event/2652
END:VEVENT
END:VCALENDAR
