BEGIN:VCALENDAR
VERSION:2.0
PRODID:-//Kulvio Event Calendar//kulvio.de//
CALSCALE:GREGORIAN
METHOD:PUBLISH
BEGIN:VEVENT
SUMMARY:The Gypsys im Alten Posthof
DTSTART:20260802T090000Z
DTEND:20260802T100000Z
DTSTAMP:20260421T042941Z
UID:kulvio-event-2653@kulvio.de
CATEGORIES:Konzert
CREATED:20260419T155456Z
DESCRIPTION:The Gypsys spielen im Innenhof des Alten Posthofs in Hattershe
 im. Die Band bringt Gypsy-Musik und mitreißende Rhythmen auf die Open-Air
 -Bühne. Das Konzert beginnt um 11 Uhr am Sonntagvormittag.
GEO:50.070317;8.484179
LAST-MODIFIED:20260419T160134Z
LOCATION:Posthofkeller\, Sarceller Straße 1\, 65795\, Hattersheim am Main
STATUS:CONFIRMED
URL:https://kulvio.de/event/2653
END:VEVENT
END:VCALENDAR
