BEGIN:VCALENDAR
VERSION:2.0
PRODID:-//Kulvio Event Calendar//kulvio.de//
CALSCALE:GREGORIAN
METHOD:PUBLISH
BEGIN:VEVENT
SUMMARY:Cabaret à la surprise - Open-Air im Posthof (August)
DTSTART:20260814T180000Z
DTEND:20260814T190000Z
DTSTAMP:20260421T043149Z
UID:kulvio-event-2654@kulvio.de
CATEGORIES:Kabarett,Open-Air
CREATED:20260419T155456Z
DESCRIPTION:Zum dritten und letzten Mal in diesem Sommer geht die Überras
 chungsshow Cabaret à la surprise auf den Innenhof des Alten Posthofs. Auc
 h im August bleibt das Line-up bis zum Showbeginn geheim. Beginn ist um 20
  Uhr.
GEO:50.070317;8.484179
LAST-MODIFIED:20260419T160134Z
LOCATION:Posthofkeller\, Sarceller Straße 1\, 65795\, Hattersheim am Main
STATUS:CONFIRMED
URL:https://kulvio.de/event/2654
END:VEVENT
END:VCALENDAR
