BEGIN:VCALENDAR
VERSION:2.0
PRODID:-//Kulvio Event Calendar//kulvio.de//
CALSCALE:GREGORIAN
METHOD:PUBLISH
BEGIN:VEVENT
SUMMARY:DJ Olma Marktplatzparty - Heimat Shoppen Hattersheim
DTSTART:20260829T160000Z
DTEND:20260829T170000Z
DTSTAMP:20260421T043144Z
UID:kulvio-event-2655@kulvio.de
CATEGORIES:Party,Stadtfest
CREATED:20260419T155456Z
DESCRIPTION:Im Rahmen der Aktion Heimat Shoppen findet eine Marktplatzpart
 y mit DJ Olma in der Hattersheimer Innenstadt statt. Der DJ sorgt auf dem 
 Marktplatz für Partystimmung\, während lokale Händler und Gastronomen i
 hr Angebot präsentieren. Die Veranstaltung richtet sich an alle\, die den
  Samstagabend in geselliger Atmosphäre auf dem Marktplatz verbringen möc
 hten.
GEO:50.070819;8.485017
LAST-MODIFIED:20260419T160134Z
LOCATION:Marktplatz\, 65795\, Hattersheim am Main
STATUS:CONFIRMED
URL:https://kulvio.de/event/2655
END:VEVENT
END:VCALENDAR
