BEGIN:VCALENDAR
VERSION:2.0
PRODID:-//Kulvio Event Calendar//kulvio.de//
CALSCALE:GREGORIAN
METHOD:PUBLISH
BEGIN:VEVENT
SUMMARY:Falk Schug: Kein Plan
DTSTART:20260926T180000Z
DTEND:20260926T190000Z
DTSTAMP:20260421T035541Z
UID:kulvio-event-2656@kulvio.de
CATEGORIES:Comedy
CREATED:20260419T155456Z
DESCRIPTION:Der Comedian Falk Schug gastiert mit seinem Programm Kein Plan
  im Posthofkeller in Hattersheim. In seiner Show nimmt er den Alltag und d
 as Improvisieren durchs Leben mit viel Humor auf die Schippe. Der Abend be
 ginnt um 20 Uhr im historischen Gewölbekeller.
GEO:50.070317;8.484179
LAST-MODIFIED:20260419T160134Z
LOCATION:Posthofkeller\, Sarceller Straße 1\, 65795\, Hattersheim am Main
STATUS:CONFIRMED
URL:https://kulvio.de/event/2656
END:VEVENT
END:VCALENDAR
