BEGIN:VCALENDAR
VERSION:2.0
PRODID:-//Kulvio Event Calendar//kulvio.de//
CALSCALE:GREGORIAN
METHOD:PUBLISH
BEGIN:VEVENT
SUMMARY:Emmi und Herr Willnowsky: 30 Jahre Best-Of
DTSTART:20261023T180000Z
DTEND:20261023T190000Z
DTSTAMP:20260421T043141Z
UID:kulvio-event-2657@kulvio.de
CATEGORIES:Comedy
CREATED:20260419T155456Z
DESCRIPTION:Das Comedy-Duo Emmi und Herr Willnowsky feiert sein 30-jährig
 es Bühnenjubiläum mit einer Best-Of-Show in der Stadthalle Hattersheim. 
 Die beiden blicken auf drei Jahrzehnte Comedy zurück und zeigen die Highl
 ights aus ihren Programmen. Beginn ist um 20 Uhr.
GEO:50.071952;8.484316
LAST-MODIFIED:20260419T160134Z
LOCATION:Stadthalle Hattersheim\, Karl-Eckel-Weg 1\, 65795\, Hattersheim a
 m Main
STATUS:CONFIRMED
URL:https://kulvio.de/event/2657
END:VEVENT
END:VCALENDAR
