BEGIN:VCALENDAR
VERSION:2.0
PRODID:-//Kulvio Event Calendar//kulvio.de//
CALSCALE:GREGORIAN
METHOD:PUBLISH
BEGIN:VEVENT
SUMMARY:Maddin Schneider: Schöne Sonndach
DTSTART:20261107T190000Z
DTEND:20261107T200000Z
DTSTAMP:20260421T043149Z
UID:kulvio-event-2658@kulvio.de
CATEGORIES:Comedy
CREATED:20260419T155456Z
DESCRIPTION:Der hessische Comedian Maddin Schneider gastiert mit seinem Pr
 ogramm Schöne Sonndach in der Stadthalle Hattersheim. Bekannt aus dem hr-
 Fernsehen\, nimmt er das hessische Lebensgefühl und den Alltag mit seinem
  typischen Humor aufs Korn. Die Show beginnt um 20 Uhr.
GEO:50.071952;8.484316
LAST-MODIFIED:20260419T160134Z
LOCATION:Stadthalle Hattersheim\, Karl-Eckel-Weg 1\, 65795\, Hattersheim a
 m Main
STATUS:CONFIRMED
URL:https://kulvio.de/event/2658
END:VEVENT
END:VCALENDAR
