BEGIN:VCALENDAR
VERSION:2.0
PRODID:-//Kulvio Event Calendar//kulvio.de//
CALSCALE:GREGORIAN
METHOD:PUBLISH
BEGIN:VEVENT
SUMMARY:Hock & GO 2026 - Freitag
DTSTART:20260612T150000Z
DTEND:20260612T210000Z
DTSTAMP:20260421T035542Z
UID:kulvio-event-2659@kulvio.de
CATEGORIES:Tasting,Open-Air
CREATED:20260419T155524Z
DESCRIPTION:Das Weinfest Hock & GO findet am Weinerlebnisweg in den Hochhe
 imer Weinbergen statt. Winzer aus Hochheim und Kostheim laden zum Probiere
 n der frisch gefüllten Weine ein. Entlang der Weinmeile rund um den Beinw
 eg gibt es Stände mit Wein\, Sekt und regionaler Küche. Am Freitagabend 
 startet das Fest mit Live-Musik.
GEO:50.0277;8.3587
LAST-MODIFIED:20260419T160134Z
LOCATION:Beinweg\, 65239\, Hochheim am Main
STATUS:CONFIRMED
URL:https://kulvio.de/event/2659
END:VEVENT
END:VCALENDAR
