BEGIN:VCALENDAR
VERSION:2.0
PRODID:-//Kulvio Event Calendar//kulvio.de//
CALSCALE:GREGORIAN
METHOD:PUBLISH
BEGIN:VEVENT
SUMMARY:Hock & GO 2026 - Samstag
DTSTART:20260613T100000Z
DTEND:20260613T210000Z
DTSTAMP:20260421T035541Z
UID:kulvio-event-2660@kulvio.de
CATEGORIES:Tasting,Open-Air
CREATED:20260419T155524Z
DESCRIPTION:Am Samstag setzt das Weinfest Hock & GO am Weinerlebnisweg in 
 den Hochheimer Weinbergen fort. Die Winzer aus Hochheim und Kostheim präs
 entieren ihre Weine an Ständen entlang der Weinmeile. Dazu gibt es Live-M
 usik und kulinarische Angebote in den Weinbergen.
GEO:50.0277;8.3587
LAST-MODIFIED:20260419T160134Z
LOCATION:Beinweg\, 65239\, Hochheim am Main
STATUS:CONFIRMED
URL:https://kulvio.de/event/2660
END:VEVENT
END:VCALENDAR
