BEGIN:VCALENDAR
VERSION:2.0
PRODID:-//Kulvio Event Calendar//kulvio.de//
CALSCALE:GREGORIAN
METHOD:PUBLISH
BEGIN:VEVENT
SUMMARY:Hock & GO 2026 - Sonntag
DTSTART:20260614T090000Z
DTEND:20260614T180000Z
DTSTAMP:20260421T035540Z
UID:kulvio-event-2661@kulvio.de
CATEGORIES:Tasting,Open-Air
CREATED:20260419T155524Z
DESCRIPTION:Am Sonntag klingt das Weinfest Hock & GO am Weinerlebnisweg ge
 mütlich aus. Die Hochheimer und Kostheimer Winzer schenken zum letzten Ma
 l ihre Weine entlang der Weinmeile aus. Der Sonntag eignet sich besonders 
 für einen entspannten Spaziergang durch die Weinberge mit Weinprobe.
GEO:50.0277;8.3587
LAST-MODIFIED:20260419T160134Z
LOCATION:Beinweg\, 65239\, Hochheim am Main
STATUS:CONFIRMED
URL:https://kulvio.de/event/2661
END:VEVENT
END:VCALENDAR
