BEGIN:VCALENDAR
VERSION:2.0
PRODID:-//Kulvio Event Calendar//kulvio.de//
CALSCALE:GREGORIAN
METHOD:PUBLISH
BEGIN:VEVENT
SUMMARY:Hochheimer Weinfest - Freitag
DTSTART:20260710T150000Z
DTEND:20260710T215900Z
DTSTAMP:20260421T043153Z
UID:kulvio-event-2662@kulvio.de
CATEGORIES:Festival,Tasting
CREATED:20260419T155524Z
DESCRIPTION:Das 75. Hochheimer Weinfest startet am Freitag rund um den Le-
 Pontet-Platz in der Altstadt. An 26 Weinständen schenken lokale Winzer ih
 re Weine aus\, auf acht Bühnen spielt Live-Musik aus verschiedenen Genres
 . In 15 offenen Höfen laden Weingüter zum Verweilen ein. Der Eintritt is
 t frei\, das Festglas kostet 3 Euro.
GEO:50.012486;8.3497
LAST-MODIFIED:20260419T160134Z
LOCATION:Le-Pontet-Platz\, 65239\, Hochheim am Main
STATUS:CONFIRMED
URL:https://kulvio.de/event/2662
END:VEVENT
END:VCALENDAR
