BEGIN:VCALENDAR
VERSION:2.0
PRODID:-//Kulvio Event Calendar//kulvio.de//
CALSCALE:GREGORIAN
METHOD:PUBLISH
BEGIN:VEVENT
SUMMARY:Hochheimer Weinfest - Samstag
DTSTART:20260711T100000Z
DTEND:20260711T215900Z
DTSTAMP:20260421T035329Z
UID:kulvio-event-2663@kulvio.de
CATEGORIES:Festival,Tasting
CREATED:20260419T155524Z
DESCRIPTION:Am Samstag erreicht das 75. Hochheimer Weinfest seinen Höhepu
 nkt. In der Altstadt und rund um den Le-Pontet-Platz laden 26 Weinstände\
 , Live-Musik auf acht Bühnen und die Künstlergasse zum Genießen und Ent
 decken ein. Die Hochheimer Winzer präsentieren ihre besten Weine in den o
 ffenen Höfen.
GEO:50.012486;8.3497
LAST-MODIFIED:20260419T160134Z
LOCATION:Le-Pontet-Platz\, 65239\, Hochheim am Main
STATUS:CONFIRMED
URL:https://kulvio.de/event/2663
END:VEVENT
END:VCALENDAR
