BEGIN:VCALENDAR
VERSION:2.0
PRODID:-//Kulvio Event Calendar//kulvio.de//
CALSCALE:GREGORIAN
METHOD:PUBLISH
BEGIN:VEVENT
SUMMARY:Hochheimer Weinfest - Sonntag
DTSTART:20260712T090000Z
DTEND:20260712T200000Z
DTSTAMP:20260421T085042Z
UID:kulvio-event-2664@kulvio.de
CATEGORIES:Festival,Tasting,Spielfest
CREATED:20260419T155524Z
DESCRIPTION:Der Familientag beim 75. Hochheimer Weinfest bietet neben Wein
 ständen und Live-Musik ein Kinderprogramm in der Altstadt. Dazu gibt es e
 inen verkaufsoffenen Sonntag mit geöffneten Geschäften rund um den Le-Po
 ntet-Platz. Die Hochheimer Weingüter laden in ihren Höfen zum Verkosten 
 ein.
GEO:50.012486;8.3497
LAST-MODIFIED:20260419T160134Z
LOCATION:Le-Pontet-Platz\, 65239\, Hochheim am Main
STATUS:CONFIRMED
URL:https://kulvio.de/event/2664
END:VEVENT
END:VCALENDAR
