BEGIN:VCALENDAR
VERSION:2.0
PRODID:-//Kulvio Event Calendar//kulvio.de//
CALSCALE:GREGORIAN
METHOD:PUBLISH
BEGIN:VEVENT
SUMMARY:Hochheimer Weinfest - Montag mit Feuerwerk
DTSTART:20260713T150000Z
DTEND:20260713T215900Z
DTSTAMP:20260421T042826Z
UID:kulvio-event-2665@kulvio.de
CATEGORIES:Festival,Tasting
CREATED:20260419T155524Z
DESCRIPTION:Am letzten Tag des 75. Hochheimer Weinfests klingt das Fest mi
 t Live-Musik und Wein in der Altstadt aus. Den krönenden Abschluss bildet
  ein großes Feuerwerk in den Weinbergen am Montagabend. Die Weinstände u
 nd Höfe sind ein letztes Mal geöffnet.
GEO:50.012486;8.3497
LAST-MODIFIED:20260419T160134Z
LOCATION:Le-Pontet-Platz\, 65239\, Hochheim am Main
STATUS:CONFIRMED
URL:https://kulvio.de/event/2665
END:VEVENT
END:VCALENDAR
