BEGIN:VCALENDAR
VERSION:2.0
PRODID:-//Kulvio Event Calendar//kulvio.de//
CALSCALE:GREGORIAN
METHOD:PUBLISH
BEGIN:VEVENT
SUMMARY:Hochheimer Markt - Freitag
DTSTART:20261106T130000Z
DTEND:20261106T220000Z
DTSTAMP:20260421T035540Z
UID:kulvio-event-2666@kulvio.de
CATEGORIES:Stadtfest,Tradition
CREATED:20260419T155524Z
DESCRIPTION:Der Hochheimer Markt zählt zu den zehn größten Herbstmärkt
 en Deutschlands und blickt auf eine über 500-jährige Tradition zurück. 
 Das Volksfest vereint Fahrgeschäfte\, Buden\, Gastronomiestände und Live
 -Musik auf dem Festgelände Am Weiher. Am Freitag öffnet der Markt am Nac
 hmittag.
GEO:50.017365;8.349742
LAST-MODIFIED:20260419T160134Z
LOCATION:Am Weiher\, 65239\, Hochheim am Main
STATUS:CONFIRMED
URL:https://kulvio.de/event/2666
END:VEVENT
END:VCALENDAR
