BEGIN:VCALENDAR
VERSION:2.0
PRODID:-//Kulvio Event Calendar//kulvio.de//
CALSCALE:GREGORIAN
METHOD:PUBLISH
BEGIN:VEVENT
SUMMARY:Hochheimer Markt - Samstag
DTSTART:20261107T090000Z
DTEND:20261107T225900Z
DTSTAMP:20260421T035543Z
UID:kulvio-event-2667@kulvio.de
CATEGORIES:Stadtfest,Tradition
CREATED:20260419T155524Z
DESCRIPTION:Am Samstag erreicht der Hochheimer Markt volle Fahrt. Das Fest
 gelände Am Weiher füllt sich mit Besuchern\, die zwischen Fahrgeschäfte
 n\, Marktständen und Festzelten flanieren. Live-Musik und ein großes Gas
 tronomieangebot runden den Markttag ab.
GEO:50.017365;8.349742
LAST-MODIFIED:20260419T160134Z
LOCATION:Am Weiher\, 65239\, Hochheim am Main
STATUS:CONFIRMED
URL:https://kulvio.de/event/2667
END:VEVENT
END:VCALENDAR
