BEGIN:VCALENDAR
VERSION:2.0
PRODID:-//Kulvio Event Calendar//kulvio.de//
CALSCALE:GREGORIAN
METHOD:PUBLISH
BEGIN:VEVENT
SUMMARY:Hochheimer Markt - Sonntag
DTSTART:20261108T090000Z
DTEND:20261108T220000Z
DTSTAMP:20260421T043143Z
UID:kulvio-event-2668@kulvio.de
CATEGORIES:Stadtfest,Tradition
CREATED:20260419T155524Z
DESCRIPTION:Der Sonntag beim Hochheimer Markt bietet ein Programm für die
  ganze Familie. Auf dem Festgelände Am Weiher laden Fahrgeschäfte\, Mark
 tstände und Festzelte zum Verweilen ein. Der traditionelle Herbstmarkt ge
 hört zu den zehn größten seiner Art in Deutschland.
GEO:50.017365;8.349742
LAST-MODIFIED:20260419T160134Z
LOCATION:Am Weiher\, 65239\, Hochheim am Main
STATUS:CONFIRMED
URL:https://kulvio.de/event/2668
END:VEVENT
END:VCALENDAR
