BEGIN:VCALENDAR
VERSION:2.0
PRODID:-//Kulvio Event Calendar//kulvio.de//
CALSCALE:GREGORIAN
METHOD:PUBLISH
BEGIN:VEVENT
SUMMARY:Hochheimer Markt - Montag
DTSTART:20261109T130000Z
DTEND:20261109T220000Z
DTSTAMP:20260421T042946Z
UID:kulvio-event-2669@kulvio.de
CATEGORIES:Stadtfest,Tradition
CREATED:20260419T155524Z
DESCRIPTION:Am Montag geht der Hochheimer Markt in seine vorletzte Runde. 
 Das Festgelände Am Weiher bietet weiterhin Fahrgeschäfte\, Gastronomie u
 nd Unterhaltung. Der über 500 Jahre alte Herbstmarkt lockt jährlich mehr
  als 600.000 Besucher an.
GEO:50.017365;8.349742
LAST-MODIFIED:20260419T160134Z
LOCATION:Am Weiher\, 65239\, Hochheim am Main
STATUS:CONFIRMED
URL:https://kulvio.de/event/2669
END:VEVENT
END:VCALENDAR
