BEGIN:VCALENDAR
VERSION:2.0
PRODID:-//Kulvio Event Calendar//kulvio.de//
CALSCALE:GREGORIAN
METHOD:PUBLISH
BEGIN:VEVENT
SUMMARY:Hochheimer Markt - Dienstag mit Feuerwerk
DTSTART:20261110T130000Z
DTEND:20261110T210000Z
DTSTAMP:20260421T043142Z
UID:kulvio-event-2670@kulvio.de
CATEGORIES:Stadtfest,Tradition
CREATED:20260419T155524Z
DESCRIPTION:Am letzten Tag des Hochheimer Marktes bildet ein großes Feuer
 werk den krönenden Abschluss des fünftägigen Volksfestes. Das Feuerwerk
  startet um 19 Uhr und ist vom Festgelände Am Weiher aus gut zu sehen. De
 r Familientag bietet ermäßigte Preise an den Fahrgeschäften.
GEO:50.017365;8.349742
LAST-MODIFIED:20260419T160134Z
LOCATION:Am Weiher\, 65239\, Hochheim am Main
STATUS:CONFIRMED
URL:https://kulvio.de/event/2670
END:VEVENT
END:VCALENDAR
