BEGIN:VCALENDAR
VERSION:2.0
PRODID:-//Kulvio Event Calendar//kulvio.de//
CALSCALE:GREGORIAN
METHOD:PUBLISH
BEGIN:VEVENT
SUMMARY:Hochheimer Weihnachtsmarkt - Freitag
DTSTART:20261204T150000Z
DTEND:20261204T200000Z
DTSTAMP:20260421T042811Z
UID:kulvio-event-2671@kulvio.de
CATEGORIES:Weihnachtsmarkt
CREATED:20260419T155524Z
DESCRIPTION:Der Hochheimer Weihnachtsmarkt öffnet am zweiten Adventswoche
 nende in der Altstadt. Geschmückte Marktstände bieten Kunsthandwerk\, Ge
 schenke und weihnachtliche Spezialitäten an. Dazu gibt es Glühwein\, But
 terwaffeln und ein musikalisches Rahmenprogramm in stimmungsvoller Beleuch
 tung.
GEO:50.0277;8.3587
LAST-MODIFIED:20260419T160134Z
LOCATION:Altstadt\, 65239\, Hochheim am Main
STATUS:CONFIRMED
URL:https://kulvio.de/event/2671
END:VEVENT
END:VCALENDAR
