BEGIN:VCALENDAR
VERSION:2.0
PRODID:-//Kulvio Event Calendar//kulvio.de//
CALSCALE:GREGORIAN
METHOD:PUBLISH
BEGIN:VEVENT
SUMMARY:Hochheimer Weihnachtsmarkt - Samstag
DTSTART:20261205T110000Z
DTEND:20261205T200000Z
DTSTAMP:20260421T084852Z
UID:kulvio-event-2672@kulvio.de
CATEGORIES:Weihnachtsmarkt
CREATED:20260419T155524Z
DESCRIPTION:Am Samstag lädt der Hochheimer Weihnachtsmarkt erneut zum Bum
 meln durch die festlich geschmückte Altstadt ein. Stände mit Kunsthandwe
 rk und kulinarischen Leckereien säumen die Gassen\, begleitet von weihnac
 htlicher Musik. Die Stadtbücherei und das Heimatmuseum sind in den Markt 
 einbezogen.
GEO:50.0277;8.3587
LAST-MODIFIED:20260419T160134Z
LOCATION:Altstadt\, 65239\, Hochheim am Main
STATUS:CONFIRMED
URL:https://kulvio.de/event/2672
END:VEVENT
END:VCALENDAR
