BEGIN:VCALENDAR
VERSION:2.0
PRODID:-//Kulvio Event Calendar//kulvio.de//
CALSCALE:GREGORIAN
METHOD:PUBLISH
BEGIN:VEVENT
SUMMARY:Hochheimer Weihnachtsmarkt - Sonntag
DTSTART:20261206T110000Z
DTEND:20261206T180000Z
DTSTAMP:20260421T084612Z
UID:kulvio-event-2673@kulvio.de
CATEGORIES:Weihnachtsmarkt
CREATED:20260419T155524Z
DESCRIPTION:Am Sonntag klingt der Hochheimer Weihnachtsmarkt in der Altsta
 dt gemütlich aus. Die Marktstände bieten zum letzten Mal Kunsthandwerk\,
  Geschenke und weihnachtliche Spezialitäten an. Der Nachmittag eignet sic
 h besonders für einen entspannten Besuch mit der Familie.
GEO:50.0277;8.3587
LAST-MODIFIED:20260419T160134Z
LOCATION:Altstadt\, 65239\, Hochheim am Main
STATUS:CONFIRMED
URL:https://kulvio.de/event/2673
END:VEVENT
END:VCALENDAR
