BEGIN:VCALENDAR
VERSION:2.0
PRODID:-//Kulvio Event Calendar//kulvio.de//
CALSCALE:GREGORIAN
METHOD:PUBLISH
BEGIN:VEVENT
SUMMARY:Hofheimer Altstadtfest - Samstag
DTSTART:20260425T100000Z
DTEND:20260425T200000Z
DTSTAMP:20260421T042945Z
UID:kulvio-event-2674@kulvio.de
CATEGORIES:Stadtfest,Food-Festival
CREATED:20260419T155540Z
DESCRIPTION:Das Hofheimer Altstadtfest verwandelt die Innenstadt in eine g
 roße Festmeile. Auf dem Kellereiplatz gastiert das Street Food & Music Fe
 stival mit über 20 Food Trucks und Live-Musik auf der Bühne. Der Förder
 kreis Hofheimer Städtepartnerschaften feiert auf dem Tivertonplatz den Eu
 ropatag mit Ständen aus den Partnerstädten Buccino\, Chinon und Pruszcz 
 Gdański. Der Eintritt zum Fest ist frei.
GEO:50.086603;8.447619
LAST-MODIFIED:20260419T160134Z
LOCATION:Kellereiplatz\, 65719\, Hofheim am Taunus
STATUS:CONFIRMED
URL:https://kulvio.de/event/2674
END:VEVENT
END:VCALENDAR
