BEGIN:VCALENDAR
VERSION:2.0
PRODID:-//Kulvio Event Calendar//kulvio.de//
CALSCALE:GREGORIAN
METHOD:PUBLISH
BEGIN:VEVENT
SUMMARY:Hofheimer Altstadtfest - Sonntag
DTSTART:20260426T090000Z
DTEND:20260426T160000Z
DTSTAMP:20260421T042939Z
UID:kulvio-event-2675@kulvio.de
CATEGORIES:Stadtfest,Food-Festival
CREATED:20260419T155540Z
DESCRIPTION:Am Sonntag setzt das Hofheimer Altstadtfest in der Innenstadt 
 fort. Auf dem Platz Am Untertor findet das Vespa-Meeting mit rund 200 Oldt
 imern und historischen Vespas aus ganz Deutschland statt. Das Street Food 
 & Music Festival auf dem Kellereiplatz bietet weiter internationale Küche
  und Bühnenprogramm. Dazu lädt der Hofheimer Einzelhandel von 13 bis 18 
 Uhr zum verkaufsoffenen Sonntag ein.
GEO:50.086603;8.447619
LAST-MODIFIED:20260419T160134Z
LOCATION:Kellereiplatz\, 65719\, Hofheim am Taunus
STATUS:CONFIRMED
URL:https://kulvio.de/event/2675
END:VEVENT
END:VCALENDAR
