BEGIN:VCALENDAR
VERSION:2.0
PRODID:-//Kulvio Event Calendar//kulvio.de//
CALSCALE:GREGORIAN
METHOD:PUBLISH
BEGIN:VEVENT
SUMMARY:Jo van Nelsen: Die Hesselbachs
DTSTART:20260524T150000Z
DTEND:20260524T160000Z
DTSTAMP:20260421T042942Z
UID:kulvio-event-2677@kulvio.de
CATEGORIES:Kabarett,Show
CREATED:20260419T155540Z
DESCRIPTION:Der Chansonnier und Entertainer Jo van Nelsen präsentiert sei
 n Programm Die Hesselbachs im ShowSpielhaus Main-Taunus in Hofheim. Die Na
 chmittagsvorstellung widmet sich der legendären hessischen Fernsehfamilie
  auf musikalisch-kabarettistische Weise. Die Show beginnt um 17 Uhr im Kle
 inkunsttheater in der Hattersheimer Straße.
GEO:50.082456;8.454695
LAST-MODIFIED:20260419T160134Z
LOCATION:ShowSpielhaus Main-Taunus\, Hattersheimer Straße 31\, 65719\, Ho
 fheim am Taunus
STATUS:CONFIRMED
URL:https://kulvio.de/event/2677
END:VEVENT
END:VCALENDAR
