BEGIN:VCALENDAR
VERSION:2.0
PRODID:-//Kulvio Event Calendar//kulvio.de//
CALSCALE:GREGORIAN
METHOD:PUBLISH
BEGIN:VEVENT
SUMMARY:Musical-Menü 26: Vive la France
DTSTART:20260525T170000Z
DTEND:20260525T180000Z
DTSTAMP:20260421T043142Z
UID:kulvio-event-2678@kulvio.de
CATEGORIES:Musical,Show
CREATED:20260419T155540Z
DESCRIPTION:Das ShowSpielhaus Main-Taunus in Hofheim lädt zum Musical-Men
 ü unter dem Motto Vive la France ein. Der Abend verbindet ein mehrgängig
 es Menü mit Live-Gesang aus französischen Musicals und Chansons. Die Ver
 anstaltung beginnt um 19 Uhr und richtet sich an Musical-Liebhaber und Gen
 ießer gleichermaßen.
GEO:50.082456;8.454695
LAST-MODIFIED:20260419T160134Z
LOCATION:ShowSpielhaus Main-Taunus\, Hattersheimer Straße 31\, 65719\, Ho
 fheim am Taunus
STATUS:CONFIRMED
URL:https://kulvio.de/event/2678
END:VEVENT
END:VCALENDAR
