BEGIN:VCALENDAR
VERSION:2.0
PRODID:-//Kulvio Event Calendar//kulvio.de//
CALSCALE:GREGORIAN
METHOD:PUBLISH
BEGIN:VEVENT
SUMMARY:Hans Gerzlich: Ich hatte mich jünger in Erinnerung!
DTSTART:20260604T180000Z
DTEND:20260604T190000Z
DTSTAMP:20260421T042827Z
UID:kulvio-event-2679@kulvio.de
CATEGORIES:Comedy
CREATED:20260419T155540Z
DESCRIPTION:Der Comedian Hans Gerzlich gastiert mit seinem Programm Ich ha
 tte mich jünger in Erinnerung im ShowSpielhaus Main-Taunus in Hofheim. In
  seiner Show widmet er sich humorvoll dem Älterwerden und den kleinen Abs
 urditäten des Alltags. Die Vorstellung beginnt um 20 Uhr.
GEO:50.082456;8.454695
LAST-MODIFIED:20260419T160134Z
LOCATION:ShowSpielhaus Main-Taunus\, Hattersheimer Straße 31\, 65719\, Ho
 fheim am Taunus
STATUS:CONFIRMED
URL:https://kulvio.de/event/2679
END:VEVENT
END:VCALENDAR
