BEGIN:VCALENDAR
VERSION:2.0
PRODID:-//Kulvio Event Calendar//kulvio.de//
CALSCALE:GREGORIAN
METHOD:PUBLISH
BEGIN:VEVENT
SUMMARY:Stephan Bauer: Neues Programm
DTSTART:20260605T180000Z
DTEND:20260605T190000Z
DTSTAMP:20260421T035328Z
UID:kulvio-event-2680@kulvio.de
CATEGORIES:Kabarett
CREATED:20260419T155540Z
DESCRIPTION:Der Kabarettist Stephan Bauer präsentiert sein neues Programm
  im ShowSpielhaus Main-Taunus in Hofheim. Bekannt für seinen feinsinnigen
  Humor und seine pointierten Beobachtungen\, bringt er frisches Material a
 uf die Bühne des Kleinkunsttheaters. Die Vorstellung beginnt um 20 Uhr.
GEO:50.082456;8.454695
LAST-MODIFIED:20260419T160134Z
LOCATION:ShowSpielhaus Main-Taunus\, Hattersheimer Straße 31\, 65719\, Ho
 fheim am Taunus
STATUS:CONFIRMED
URL:https://kulvio.de/event/2680
END:VEVENT
END:VCALENDAR
