BEGIN:VCALENDAR
VERSION:2.0
PRODID:-//Kulvio Event Calendar//kulvio.de//
CALSCALE:GREGORIAN
METHOD:PUBLISH
BEGIN:VEVENT
SUMMARY:Emmi & Willnowsky: Tour 2026
DTSTART:20260606T180000Z
DTEND:20260606T190000Z
DTSTAMP:20260421T035540Z
UID:kulvio-event-2681@kulvio.de
CATEGORIES:Comedy
CREATED:20260419T155540Z
DESCRIPTION:Das Comedy-Duo Emmi und Herr Willnowsky gastiert mit seiner To
 ur 2026 im ShowSpielhaus Main-Taunus in Hofheim. Die beiden verbinden impr
 ovisierte Komik mit Sketchen und beziehen das Publikum aktiv in ihre Show 
 ein. Karten sind ab 31 Euro erhältlich\, die Vorstellung beginnt um 20 Uh
 r.
GEO:50.082456;8.454695
LAST-MODIFIED:20260419T160134Z
LOCATION:ShowSpielhaus Main-Taunus\, Hattersheimer Straße 31\, 65719\, Ho
 fheim am Taunus
STATUS:CONFIRMED
URL:https://kulvio.de/event/2681
END:VEVENT
END:VCALENDAR
